BEGIN:VCALENDAR
VERSION:2.0
PRODID:-//TCML at Austin - ECPv6.0.8//NONSGML v1.0//EN
CALSCALE:GREGORIAN
METHOD:PUBLISH
X-WR-CALNAME:TCML at Austin
X-ORIGINAL-URL:https://atpcweb.org/gma/tcml
X-WR-CALDESC:Events for TCML at Austin
REFRESH-INTERVAL;VALUE=DURATION:PT1H
X-Robots-Tag:noindex
X-PUBLISHED-TTL:PT1H
BEGIN:VTIMEZONE
TZID:America/Chicago
BEGIN:DAYLIGHT
TZOFFSETFROM:-0600
TZOFFSETTO:-0500
TZNAME:CDT
DTSTART:20230312T080000
END:DAYLIGHT
BEGIN:STANDARD
TZOFFSETFROM:-0500
TZOFFSETTO:-0600
TZNAME:CST
DTSTART:20231105T070000
END:STANDARD
END:VTIMEZONE
BEGIN:VEVENT
DTSTART;TZID=America/Chicago:20230716T113000
DTEND;TZID=America/Chicago:20230716T140000
DTSTAMP:20260425T173749
CREATED:20230717T050919Z
LAST-MODIFIED:20230717T050919Z
UID:3283-1689507000-1689516000@atpcweb.org
SUMMARY:Taiwan Youth and Overseas Expatriate Bridging Program Visit
DESCRIPTION:TCML – GMA is honored to host the visit of “Taiwan Youth and Overseas Expatriate Bridging Program”.  This is a great program for Taiwan’s youth to participate and learn about the OCAC’s tasks. The Taiwanese students in this program are coming to visit us here at ATPC on 07/16/2023\, Sunday. \n=============================================== \nTaiwan Youth and Overseas Expatriate Bridging Program: \nThe Overseas Community Affairs Council (OCAC) held its Taiwan Youth and Overseas Expatriate Bridging Program from 2017 as a way to broaden the horizons of Taiwan’s youth and increase their understanding of the OCAC’s tasks. Through annual program\, outstanding Taiwanese students have been sent to various cities around the world during summer vacation. Activities include visiting the culture center of the Taipei Economic and Cultural Office\, local expatriate associations and mainstream institutions. Additionally\, participants will engage in various events held by the overseas community and have the opportunity to stay with a host family. Through personal experience\, Taiwan’s youth will gain a deeper understanding of the obstacles that overseas expatriates have faced abroad in addition to the opportunities for interactions with the overseas community. \nhttps://www.ocac.gov.tw/OCAC/Eng/Pages/VDetail.aspx?nodeid=4373&pid=9676830
URL:https://atpcweb.org/gma/tcml/event/taiwan-youth-and-overseas-expatriate-bridging-program-visit/
LOCATION:5300 Duval Road\, Austin\, TX 78727\, 5300 Duval Road\, Austin\, TX\, 78727\, United States
ATTACH;FMTTYPE=image/png:https://atpcweb.org/gma/tcml/wp-content/uploads/2023/07/Screen-Shot-2023-07-12-at-10.35.29-AM-e1689176511804.png
END:VEVENT
END:VCALENDAR