BEGIN:VCALENDAR
VERSION:2.0
PRODID:-//TCML at Austin - ECPv6.0.8//NONSGML v1.0//EN
CALSCALE:GREGORIAN
METHOD:PUBLISH
X-ORIGINAL-URL:https://atpcweb.org/gma/tcml
X-WR-CALDESC:Events for TCML at Austin
REFRESH-INTERVAL;VALUE=DURATION:PT1H
X-Robots-Tag:noindex
X-PUBLISHED-TTL:PT1H
BEGIN:VTIMEZONE
TZID:America/Chicago
BEGIN:DAYLIGHT
TZOFFSETFROM:-0600
TZOFFSETTO:-0500
TZNAME:CDT
DTSTART:20230312T080000
END:DAYLIGHT
BEGIN:STANDARD
TZOFFSETFROM:-0500
TZOFFSETTO:-0600
TZNAME:CST
DTSTART:20231105T070000
END:STANDARD
END:VTIMEZONE
BEGIN:VEVENT
DTSTART;TZID=America/Chicago:20230910T113000
DTEND;TZID=America/Chicago:20230910T130000
DTSTAMP:20260425T144524
CREATED:20230910T013117Z
LAST-MODIFIED:20240204T133252Z
UID:3428-1694345400-1694350800@atpcweb.org
SUMMARY:TCML 2023 Fall Class will start on September 10th.
DESCRIPTION:Welcome our Mandarin 101 and Mandarin 102 students. Are you ready for starting your Mandarin learning journeys? We are pleasure being with you!
URL:https://atpcweb.org/gma/tcml/event/tcml-2023-fall-class-will-start-on-september-10th/
LOCATION:TX
ATTACH;FMTTYPE=image/jpeg:https://atpcweb.org/gma/tcml/wp-content/uploads/2023/07/華文招生海報-TCML-GMA-Fall-Class-2023-07-28-s-scaled.jpg
END:VEVENT
END:VCALENDAR