BEGIN:VCALENDAR
VERSION:2.0
PRODID:-//TCML at Austin - ECPv6.0.8//NONSGML v1.0//EN
CALSCALE:GREGORIAN
METHOD:PUBLISH
X-WR-CALNAME:TCML at Austin
X-ORIGINAL-URL:https://atpcweb.org/gma/tcml
X-WR-CALDESC:Events for TCML at Austin
REFRESH-INTERVAL;VALUE=DURATION:PT1H
X-Robots-Tag:noindex
X-PUBLISHED-TTL:PT1H
BEGIN:VTIMEZONE
TZID:America/Chicago
BEGIN:DAYLIGHT
TZOFFSETFROM:-0600
TZOFFSETTO:-0500
TZNAME:CDT
DTSTART:20230312T080000
END:DAYLIGHT
BEGIN:STANDARD
TZOFFSETFROM:-0500
TZOFFSETTO:-0600
TZNAME:CST
DTSTART:20231105T070000
END:STANDARD
END:VTIMEZONE
BEGIN:VEVENT
DTSTART;TZID=America/Chicago:20230927T190000
DTEND;TZID=America/Chicago:20230927T190000
DTSTAMP:20260425T144405
CREATED:20230904T182904Z
LAST-MODIFIED:20240204T133019Z
UID:3418-1695841200-1695841200@atpcweb.org
SUMMARY:Sound of Taiwan-Austin Oversea Committee proudly presents a captivating celebration of Taiwan's National Day!
DESCRIPTION:Join us on September 27th\, 2023\, as the Austin Oversea Committee proudly presents a captivating celebration of Taiwan’s National Day!  \nPrepare to be mesmerized by the enchanting melodies and rich cultural heritage of Taiwan\, brought to life by the acclaimed Formosa Melody Music Center (FMMC). Under the banner of “Let the World Hear Taiwan\,” this exceptional cultural delegation will cast a spell of musical wonder at the prestigious St. Andrew’s Episcopal School Dell Fine Arts Center\, nestled at 5901 Southwest Parkway in the vibrant city of Austin\, Texas. \nhttps://www.eventbrite.com/…/sound-of-taiwan-tickets…
URL:https://atpcweb.org/gma/tcml/event/sound-of-taiwan-austin-oversea-committee-proudly-presents-a-captivating-celebration-of-taiwans-national-day/
LOCATION:5901 Southwest Pkway\, Austin\, TX 78735\, 5901 Southwest Pkway\, Austin\, 78735\, United States
ATTACH;FMTTYPE=image/jpeg:https://atpcweb.org/gma/tcml/wp-content/uploads/2023/09/20230927_185439.jpg
END:VEVENT
END:VCALENDAR