BEGIN:VCALENDAR
VERSION:2.0
PRODID:-//TCML at Austin - ECPv6.0.8//NONSGML v1.0//EN
CALSCALE:GREGORIAN
METHOD:PUBLISH
X-WR-CALNAME:TCML at Austin
X-ORIGINAL-URL:https://atpcweb.org/gma/tcml
X-WR-CALDESC:Events for TCML at Austin
REFRESH-INTERVAL;VALUE=DURATION:PT1H
X-Robots-Tag:noindex
X-PUBLISHED-TTL:PT1H
BEGIN:VTIMEZONE
TZID:America/Chicago
BEGIN:DAYLIGHT
TZOFFSETFROM:-0600
TZOFFSETTO:-0500
TZNAME:CDT
DTSTART:20240310T080000
END:DAYLIGHT
BEGIN:STANDARD
TZOFFSETFROM:-0500
TZOFFSETTO:-0600
TZNAME:CST
DTSTART:20241103T070000
END:STANDARD
END:VTIMEZONE
BEGIN:VEVENT
DTSTART;TZID=America/Chicago:20240908T113000
DTEND;TZID=America/Chicago:20240908T130000
DTSTAMP:20260422T211555
CREATED:20240827T161653Z
LAST-MODIFIED:20240827T161725Z
UID:4149-1725795000-1725800400@atpcweb.org
SUMMARY:The first day of TCML 2024 Fall Class
DESCRIPTION:The TCML  2024 Fall Class will start on September 8th and continue to December 8th.
URL:https://atpcweb.org/gma/tcml/event/the-first-day-of-tcml-2024-fall-class/
LOCATION:5300 Duval Road\, Austin\, TX 78727\, 5300 Duval Road\, Austin\, TX\, 78727\, United States
END:VEVENT
END:VCALENDAR