BEGIN:VCALENDAR
VERSION:2.0
PRODID:-//TCML at Austin - ECPv6.0.8//NONSGML v1.0//EN
CALSCALE:GREGORIAN
METHOD:PUBLISH
X-WR-CALNAME:TCML at Austin
X-ORIGINAL-URL:https://atpcweb.org/gma/tcml
X-WR-CALDESC:Events for TCML at Austin
REFRESH-INTERVAL;VALUE=DURATION:PT1H
X-Robots-Tag:noindex
X-PUBLISHED-TTL:PT1H
BEGIN:VTIMEZONE
TZID:America/Chicago
BEGIN:DAYLIGHT
TZOFFSETFROM:-0600
TZOFFSETTO:-0500
TZNAME:CDT
DTSTART:20230312T080000
END:DAYLIGHT
BEGIN:STANDARD
TZOFFSETFROM:-0500
TZOFFSETTO:-0600
TZNAME:CST
DTSTART:20231105T070000
END:STANDARD
TZID:UTC
BEGIN:STANDARD
TZOFFSETFROM:+0000
TZOFFSETTO:+0000
TZNAME:UTC
DTSTART:20220101T000000
END:STANDARD
END:VTIMEZONE
BEGIN:VEVENT
DTSTART;TZID=America/Chicago:20230716T113000
DTEND;TZID=America/Chicago:20230716T140000
DTSTAMP:20260425T205626
CREATED:20230717T050919Z
LAST-MODIFIED:20230717T050919Z
UID:3283-1689507000-1689516000@atpcweb.org
SUMMARY:Taiwan Youth and Overseas Expatriate Bridging Program Visit
DESCRIPTION:TCML – GMA is honored to host the visit of “Taiwan Youth and Overseas Expatriate Bridging Program”.  This is a great program for Taiwan’s youth to participate and learn about the OCAC’s tasks. The Taiwanese students in this program are coming to visit us here at ATPC on 07/16/2023\, Sunday. \n=============================================== \nTaiwan Youth and Overseas Expatriate Bridging Program: \nThe Overseas Community Affairs Council (OCAC) held its Taiwan Youth and Overseas Expatriate Bridging Program from 2017 as a way to broaden the horizons of Taiwan’s youth and increase their understanding of the OCAC’s tasks. Through annual program\, outstanding Taiwanese students have been sent to various cities around the world during summer vacation. Activities include visiting the culture center of the Taipei Economic and Cultural Office\, local expatriate associations and mainstream institutions. Additionally\, participants will engage in various events held by the overseas community and have the opportunity to stay with a host family. Through personal experience\, Taiwan’s youth will gain a deeper understanding of the obstacles that overseas expatriates have faced abroad in addition to the opportunities for interactions with the overseas community. \nhttps://www.ocac.gov.tw/OCAC/Eng/Pages/VDetail.aspx?nodeid=4373&pid=9676830
URL:https://atpcweb.org/gma/tcml/event/taiwan-youth-and-overseas-expatriate-bridging-program-visit/
LOCATION:5300 Duval Road\, Austin\, TX 78727\, 5300 Duval Road\, Austin\, TX\, 78727\, United States
ATTACH;FMTTYPE=image/png:https://atpcweb.org/gma/tcml/wp-content/uploads/2023/07/Screen-Shot-2023-07-12-at-10.35.29-AM-e1689176511804.png
END:VEVENT
BEGIN:VEVENT
DTSTART;TZID=UTC:20230226T020000
DTEND;TZID=UTC:20230226T150000
DTSTAMP:20260425T205626
CREATED:20230214T110813Z
LAST-MODIFIED:20230411T232106Z
UID:2668-1677376800-1677423600@atpcweb.org
SUMMARY:TCML at Austin Grand Opening
DESCRIPTION:You are invited to the Grand Opening on 02/26/2023\, Sunday @2:00 pm.  \nTCML at Austin is part of GMA/ATPC with a mission to provide an authentic environment for learning Mandarin and experiencing Taiwanese culture at our ATPC campus.  Now we are ready to share the great news with you that TCML at Austin will officially open to serve our communities around the Austin area.  The first 2023 Spring class will be followed by the Grand Opening. \nCome and join us to celebrate it. Looking forward to seeing you! \nTCML at Austin
URL:https://atpcweb.org/gma/tcml/event/tcml-at-austin-grand-opening/
LOCATION:5300 Duval Road\, Austin\, TX 78727\, 5300 Duval Road\, Austin\, TX\, 78727\, United States
ATTACH;FMTTYPE=image/jpeg:https://atpcweb.org/gma/tcml/wp-content/uploads/2023/02/TCML-Grand-Opening-Ad.jpg
END:VEVENT
BEGIN:VEVENT
DTSTART;TZID=UTC:20230212T141000
DTEND;TZID=UTC:20230212T144000
DTSTAMP:20260425T205626
CREATED:20230130T112020Z
LAST-MODIFIED:20230130T112543Z
UID:2556-1676211000-1676212800@atpcweb.org
SUMMARY:2023 Spring Classes Information Session – In Person
DESCRIPTION:TCML at Austin is part of GMA/ATPC with a mission to provide an authentic environment for learning Mandarin and experiencing Taiwanese culture at our ATPC campus. This program is designed for adult\, non-native Mandarin speakers. We will launch our first class on 02/26/2023. This program will include both virtual and in-person learning components. We welcome you to join two upcoming information sessions:\n(1). Virtual session on 02/08/2023\, Wednesday @7:00 pm on Google Meet. (http://meet.google.com/wts-ktvd-ger)\n(2). In-person session on 02/12/2023\, Sunday @2:10 pm at the ATPC Fellowship Hall.
URL:https://atpcweb.org/gma/tcml/event/2023-spring-classes-information-session-in-person/
LOCATION:TX
ATTACH;FMTTYPE=image/jpeg:https://atpcweb.org/gma/tcml/wp-content/uploads/2023/01/ATPC-church-01.jpg
END:VEVENT
BEGIN:VEVENT
DTSTART;TZID=UTC:20230208T190000
DTEND;TZID=UTC:20230208T193000
DTSTAMP:20260425T205626
CREATED:20230130T111508Z
LAST-MODIFIED:20230130T114308Z
UID:2529-1675882800-1675884600@atpcweb.org
SUMMARY:2023 Spring Classes Information Session - Virtual
DESCRIPTION:TCML at Austin is part of GMA/ATPC with a mission to provide an authentic environment for learning Mandarin and experiencing Taiwanese culture at our ATPC campus. This program is designed for adult\, non-native Mandarin speakers. We will launch our first class on 02/26/2023. This program will include both virtual and in-person learning components. We welcome you to join two upcoming information sessions:\n(1). Virtual session on 02/08/2023\, Wednesday @7:00 pm on Google Meet. (http://meet.google.com/wts-ktvd-ger)\n(2). In-person session on 02/12/2023\, Sunday @2:10 pm at the ATPC Fellowship Hall .
URL:https://atpcweb.org/gma/tcml/event/2023-spring-classes-information-session-virtual/
LOCATION:TX
END:VEVENT
BEGIN:VEVENT
DTSTART;TZID=UTC:20221203T130000
DTEND;TZID=UTC:20221203T160000
DTSTAMP:20260425T205626
CREATED:20230130T115802Z
LAST-MODIFIED:20230130T115802Z
UID:2565-1670072400-1670083200@atpcweb.org
SUMMARY:Passport to the World Festival
DESCRIPTION:TCML at Austin joined the Austin Sister Cities International: Passport to the World Festival at Austin Central Library.  It was the first opportunity to introduce our program to the public and Austin communities.
URL:https://atpcweb.org/gma/tcml/event/passport-to-the-world-festival/
LOCATION:Austin Central Library\, 710 West Cesar Chavez Street\, Austin\, TX\, 78701\, United States
ATTACH;FMTTYPE=image/jpeg:https://atpcweb.org/gma/tcml/wp-content/uploads/2023/01/20221203_114400-scaled.jpg
END:VEVENT
END:VCALENDAR