BEGIN:VCALENDAR
VERSION:2.0
PRODID:-//TCML at Austin - ECPv6.0.8//NONSGML v1.0//EN
CALSCALE:GREGORIAN
METHOD:PUBLISH
X-WR-CALNAME:TCML at Austin
X-ORIGINAL-URL:https://atpcweb.org/gma/tcml
X-WR-CALDESC:Events for TCML at Austin
REFRESH-INTERVAL;VALUE=DURATION:PT1H
X-Robots-Tag:noindex
X-PUBLISHED-TTL:PT1H
BEGIN:VTIMEZONE
TZID:America/Chicago
BEGIN:DAYLIGHT
TZOFFSETFROM:-0600
TZOFFSETTO:-0500
TZNAME:CDT
DTSTART:20230312T080000
END:DAYLIGHT
BEGIN:STANDARD
TZOFFSETFROM:-0500
TZOFFSETTO:-0600
TZNAME:CST
DTSTART:20231105T070000
END:STANDARD
END:VTIMEZONE
BEGIN:VEVENT
DTSTART;TZID=America/Chicago:20231001T140000
DTEND;TZID=America/Chicago:20231001T160000
DTSTAMP:20260425T114342
CREATED:20230923T022949Z
LAST-MODIFIED:20240204T132933Z
UID:3500-1696168800-1696176000@atpcweb.org
SUMMARY:Splendor of Taiwan: Tour and Exhibition
DESCRIPTION:Working with the OCAC Houston office\, TCML at GMA is sponsoring the “Splendor of Taiwan: Tour and Exhibition” at 2 pm on October 1st\, 2023 at Austin Taiwanese Presbyterian Church (5300 Duval Road\, Austin\, Texas). There will be presentations on the Moon Festival and tea culture in Taiwan\, a mooncake tasting\, and a hands-on experience with mung bean cakes. In addition\, we will highlight Taiwanese culture\, cuisine\, and wildlife conservation through a short movie called Taiwan Plus. We cordially invite you to join us for this fantastic cultural event. \n僑委會帶領的休士頓文化導覽團隊將來好消息華語學苑TCML 推廣臺灣優質文化。內容包括 觀賞「Taiwan Plus」影片認識臺灣風土民情、美食及保育類動物等、介紹中秋節由來習俗、簡介台灣茶藝文化及泡茶展演、品嚐月餅及DIY實做綠豆糕。
URL:https://atpcweb.org/gma/tcml/event/splendor-of-taiwan-tour-and-exhibition/
LOCATION:5300 Duval Road\, Austin\, TX 78727\, 5300 Duval Road\, Austin\, TX\, 78727\, United States
ATTACH;FMTTYPE=image/jpeg:https://atpcweb.org/gma/tcml/wp-content/uploads/2023/10/20231001_154344.jpg
END:VEVENT
END:VCALENDAR